BEGIN:VCALENDAR
VERSION:2.0
PRODID:-//Debtors Anonymous - ECPv6.15.20//NONSGML v1.0//EN
CALSCALE:GREGORIAN
METHOD:PUBLISH
X-WR-CALNAME:Debtors Anonymous
X-ORIGINAL-URL:https://debtorsanonymous.org
X-WR-CALDESC:Events for Debtors Anonymous
REFRESH-INTERVAL;VALUE=DURATION:PT1H
X-Robots-Tag:noindex
X-PUBLISHED-TTL:PT1H
BEGIN:VTIMEZONE
TZID:America/New_York
BEGIN:DAYLIGHT
TZOFFSETFROM:-0500
TZOFFSETTO:-0400
TZNAME:EDT
DTSTART:20230312T070000
END:DAYLIGHT
BEGIN:STANDARD
TZOFFSETFROM:-0400
TZOFFSETTO:-0500
TZNAME:EST
DTSTART:20231105T060000
END:STANDARD
BEGIN:DAYLIGHT
TZOFFSETFROM:-0500
TZOFFSETTO:-0400
TZNAME:EDT
DTSTART:20240310T070000
END:DAYLIGHT
BEGIN:STANDARD
TZOFFSETFROM:-0400
TZOFFSETTO:-0500
TZNAME:EST
DTSTART:20241103T060000
END:STANDARD
BEGIN:DAYLIGHT
TZOFFSETFROM:-0500
TZOFFSETTO:-0400
TZNAME:EDT
DTSTART:20250309T070000
END:DAYLIGHT
BEGIN:STANDARD
TZOFFSETFROM:-0400
TZOFFSETTO:-0500
TZNAME:EST
DTSTART:20251102T060000
END:STANDARD
END:VTIMEZONE
BEGIN:VEVENT
DTSTART;TZID=America/New_York:20240209T080000
DTEND;TZID=America/New_York:20240510T235900
DTSTAMP:20260425T174945
CREATED:20240126T040956Z
LAST-MODIFIED:20240126T041351Z
UID:174058-1707465600-1715385540@debtorsanonymous.org
SUMMARY:DA Votes 2024
DESCRIPTION:Ballot on whether to change the Steps and Traditions (1) to make God gender-neutral\, and (2) to add new forms of media to Tradition 11. \nThe Ballot will run from Feb 9 to May 10\, 2024. \nAll groups registered at the end of 2023 will receive a Ballot to vote. \nMore information available here: https://debtorsanonymous.org/fellowship-votes-2024/
URL:https://debtorsanonymous.org/event/da-votes-2024/
END:VEVENT
BEGIN:VEVENT
DTSTART;TZID=America/New_York:20240217T130000
DTEND;TZID=America/New_York:20240217T143000
DTSTAMP:20260425T174945
CREATED:20240115T052834Z
LAST-MODIFIED:20240131T042037Z
UID:173869-1708174800-1708180200@debtorsanonymous.org
SUMMARY:Fellowship-Wide Call: Gender-Neutral Language
DESCRIPTION:The WSC Literature Committee \nPresents \nA Debtors Anonymous Fellowship-Wide Call \nGender-Neutrality in the D.A. Steps & Traditions \nOur Understanding: The Upcoming Fellowship-Wide Ballot  \n  \nWhat is the upcoming ballot and the history of group conscience that led to it? How might gender-neutral references to a Higher Power help the still suffering debtor? Is changing the steps & traditions beneficial to our program as a whole? The WSC Literature Committee will explore these questions and more. \n  \nPlus\, D.A. members will share their experience\, strength\, and hope about the God of their understanding and what this means to their recovery. \n  \nSaturday\, February 17th\, 2024 \n10AM-12PM PST \n1PM-3PM EST \n6PM-8PM GMT \nDial-in number:        605-472-5540 \nAccess code:              617093# \nInternational call-in information: \nhttps://www.debtorsanonymous.org/call-in-access/ \nThe Online Meeting ID is darecovery1 \nRecordings of the speaker portions of all fellowship-wide calls are available on the website at: \nhttps://debtorsanonymous.org/podcasts \nQ&A to follow will not be recorded.  \nFor Information on the Fellowship-Wide Ballots: \nhttps://debtorsanonymous.org/fellowship-votes-2024/ \n 
URL:https://debtorsanonymous.org/event/fellowship-wide-call-gender-neutral-language/
END:VEVENT
END:VCALENDAR